BEGIN:VCALENDAR
VERSION:2.0
PRODID:-//CERN//INDICO//EN
BEGIN:VEVENT
SUMMARY:Unite! Staff Week
DTSTART:20260421T080000Z
DTEND:20260424T174000Z
DTSTAMP:20260425T212200Z
UID:indico-event-123@indico.tugraz.at
CONTACT:service.bibliothek@tugraz.at\;viola.mayerhofer@tugraz.at
DESCRIPTION:Speakers: Viola Mayerhofer (staff)\n\n[Cancelled due to insuff
 icient registrations]\nJoin colleagues from academic libraries across Euro
 pe to explore current developments in librarianship\, share best practices
 \, and expand your international network. We offer a week of exchanging ex
 periences and ideas\, interesting input\, as well as the opportunity to ge
 t to know TU Graz Library and Archives and the city of Graz.\nHighlights i
 n the programme\n\nWorkshops & discussions on current topics\nLibrary tour
 s \nWelcome dinner\nCity tour \n\nThe Staff Week is open to all libraria
 ns. When you register\, you can select the fields in which you are interes
 ted. Based on these responses\, we will organise different workshops and d
 iscussions. For more details please refer to the 'timetable' section. Deta
 ils about the programme will be continuously updated. \nRegistration \nR
 egistration opens on 7 January 2026 and closes on 20 March 2026.\n8-15 par
 ticipants. Priority is given to staff from Unite! partners. Registration
 s are accepted on a first come\, first served basis due to limited capacit
 y.\nCosts & funding\nParticipation is free of charge.\nThe welcome dinner 
 at a local restaurant will be covered by TU Graz.\nTravel expenses\, accom
 modation\, certain meals and cultural activities are to be borne by the pa
 rticipants.\nContact the international office of your home institution to 
 inquire about Erasmus+ funding for staff mobility. Then contact personalmo
 bilitaet@tugraz.at\nLanguage\nThe whole event will be held in English. \n
 Further information\n\nThe Uniter's Guide to Graz\nAbout Graz\nList of acc
 ommodations\n\n\nhttps://indico.tugraz.at/event/123/
IMAGE;VALUE=URI:https://indico.tugraz.at/event/123/logo-643297283.png
LOCATION:On site at Graz University of Technolgy\, Library and Archives
URL:https://indico.tugraz.at/event/123/
END:VEVENT
END:VCALENDAR
