BEGIN:VCALENDAR
VERSION:2.0
PRODID:-//CERN//INDICO//EN
BEGIN:VEVENT
SUMMARY:Coffee Lecture: Effiziente Literatursuche für die Abschlussarbeit
DTSTART:20260415T113000Z
DTEND:20260415T115000Z
DTSTAMP:20260425T195000Z
UID:indico-event-134@indico.tugraz.at
CONTACT:service.bibliothek@tugraz.at
DESCRIPTION:Speakers: Michaela Zottler (staff)\n\nBist du unsicher\, wie u
 nd wo du gezielt wissenschaftliche Literatur für deine Abschlussarbeit fi
 ndest? In dieser Coffee Lecture erhältst du einen kompakten Überblick ü
 ber Strategien zur effizienten Literaturrecherche anhand ausgewählter Dat
 enbanken.\nGratis Kaffee und Kekse inklusive!\nKeine Anmeldung erforderlic
 h\n\nhttps://indico.tugraz.at/event/134/
IMAGE;VALUE=URI:https://indico.tugraz.at/event/134/logo-713120175.png
LOCATION:Gruppenraum FB Inffeld
URL:https://indico.tugraz.at/event/134/
END:VEVENT
END:VCALENDAR
