BEGIN:VCALENDAR
VERSION:2.0
PRODID:-//CERN//INDICO//EN
BEGIN:VEVENT
SUMMARY:Managing Your Master’s Thesis! Overcoming Writer’s Block and M
 otivation Slumps
DTSTART:20260420T120000Z
DTEND:20260420T140000Z
DTSTAMP:20260425T212200Z
UID:indico-event-140@indico.tugraz.at
CONTACT:service.bibliothek@tugraz.at
DESCRIPTION:Speakers: Christoph De Marinis\n\nWorking on your master’s t
 hesis often involves a range of challenges: time management\, motivation s
 lumps\, writer’s block\, stress and pressure\, as well as balancing thes
 is work with a job or caregiving responsibilities. This workshop offers sp
 ace to reflect on your individual difficulties\, develop practical strateg
 ies\, and experiment with methods that support writing and revision. In ad
 dition\, we will discuss which support services at the TU Graz are most us
 eful during the final stage of the master’s programme.\nAn event by Stud
 ienabschluss-Support in collaboration with TU Graz Library and Archives.\n
 Registration via TeachCenter >\n\nhttps://indico.tugraz.at/event/140/
LOCATION:Online via Webex
URL:https://indico.tugraz.at/event/140/
END:VEVENT
END:VCALENDAR
