BEGIN:VCALENDAR
VERSION:2.0
PRODID:-//CERN//INDICO//EN
BEGIN:VEVENT
SUMMARY:Introduction and Practical Demonstration of Scite.ai for Academic 
 Research
DTSTART:20260428T120000Z
DTEND:20260428T130000Z
DTSTAMP:20260425T212200Z
UID:indico-event-141@indico.tugraz.at
CONTACT:service.bibliothek@tugraz.at
DESCRIPTION:Speakers: Eric Colteau\n\nOn 28 April\, this webinar will intr
 oduce Scite.ai and demonstrate key features for evaluating and analysing a
 cademic sources live.\nContent:\n\nIntroduce Scite.ai and its added value 
 for resource evaluation and discovery\nExplain the Scite data approach and
  the role of Smart Citations\nLive demonstration of key features (Discover
 y Search\, AI-powered Scite Assistant\, Dashboards)\n\n \nA recording of 
 the webinar will be made available to participants for future reference.\n
  \n\nhttps://indico.tugraz.at/event/141/
LOCATION:Webex
URL:https://indico.tugraz.at/event/141/
END:VEVENT
END:VCALENDAR
