BEGIN:VCALENDAR
VERSION:2.0
PRODID:-//CERN//INDICO//EN
BEGIN:VEVENT
SUMMARY:Library Appetizer: Be On Your Guard: Predatory Journals and Other 
 Fraudulent Practices
DTSTART:20260429T093000Z
DTEND:20260429T100000Z
DTSTAMP:20260425T212300Z
UID:indico-event-142@indico.tugraz.at
CONTACT:service.bibliothek@tugraz.at
DESCRIPTION:Speakers: Gerlinde Maxl\n\nPredatory publishing and other ques
 tionable practices are on the rise\, driven in part by the impact of AI on
  scholarly communication. We will explore forms of fakery and their threat
  to scientific integrity\, and discuss practical steps we can take to stay
  safe.\n\nhttps://indico.tugraz.at/event/142/
IMAGE;VALUE=URI:https://indico.tugraz.at/event/142/logo-524919207.png
LOCATION:Webex
URL:https://indico.tugraz.at/event/142/
END:VEVENT
END:VCALENDAR
